Package: BioCartaImage Version: 1.7.0 Command: /home/biocbuild/bbs-3.22-bioc/R/bin/R CMD INSTALL BioCartaImage StartedAt: 2025-10-09 15:05:16 -0400 (Thu, 09 Oct 2025) EndedAt: 2025-10-09 15:05:35 -0400 (Thu, 09 Oct 2025) EllapsedTime: 18.6 seconds RetCode: 0 Status: OK