Package: BioGA Version: 1.3.0 Command: /home/biocbuild/bbs-3.22-bioc/R/bin/R CMD build --keep-empty-dirs --no-resave-data --md5 BioGA StartedAt: 2025-10-16 17:32:11 -0400 (Thu, 16 Oct 2025) EndedAt: 2025-10-16 17:33:05 -0400 (Thu, 16 Oct 2025) EllapsedTime: 54.0 seconds RetCode: 0 Status: OK PackageFile: BioGA_1.3.0.tar.gz PackageFileSize: 327.5 KiB