Package: BioGA Version: 1.3.0 Command: /home/biocbuild/bbs-3.22-bioc/R/bin/R CMD INSTALL BioGA StartedAt: 2025-10-16 17:00:46 -0400 (Thu, 16 Oct 2025) EndedAt: 2025-10-16 17:01:32 -0400 (Thu, 16 Oct 2025) EllapsedTime: 46.7 seconds RetCode: 0 Status: OK