Package: BioMVCClass Version: 1.77.0 Command: /Library/Frameworks/R.framework/Resources/bin/R CMD build --keep-empty-dirs --no-resave-data BioMVCClass StartedAt: 2025-07-25 15:44:53 -0400 (Fri, 25 Jul 2025) EndedAt: 2025-07-25 15:44:57 -0400 (Fri, 25 Jul 2025) EllapsedTime: 4.0 seconds RetCode: 0 Status: OK PackageFile: BioMVCClass_1.77.0.tar.gz PackageFileSize: 131.3 KiB