Package: BioMVCClass Version: 1.77.0 Command: /Library/Frameworks/R.framework/Resources/bin/R CMD INSTALL BioMVCClass StartedAt: 2025-07-25 15:08:45 -0400 (Fri, 25 Jul 2025) EndedAt: 2025-07-25 15:08:47 -0400 (Fri, 25 Jul 2025) EllapsedTime: 2.2 seconds RetCode: 0 Status: OK