Package: BiocBaseUtils Version: 1.13.0 Command: rm -rf BiocBaseUtils.buildbin-libdir && mkdir BiocBaseUtils.buildbin-libdir && /Users/biocbuild/BBS/utils/build-universal.sh BiocBaseUtils_1.13.0.tar.gz /Library/Frameworks/R.framework/Resources/bin/R BiocBaseUtils.buildbin-libdir StartedAt: 2025-11-16 23:25:29 -0500 (Sun, 16 Nov 2025) EndedAt: 2025-11-16 23:25:31 -0500 (Sun, 16 Nov 2025) EllapsedTime: 2.1 seconds RetCode: 0 Status: OK PackageFile: BiocBaseUtils_1.13.0.tgz PackageFileSize: 251.4 KiB