Package: BiocBaseUtils Version: 1.13.0 Command: /Library/Frameworks/R.framework/Resources/bin/R CMD build --keep-empty-dirs --no-resave-data BiocBaseUtils StartedAt: 2025-11-17 16:02:12 -0500 (Mon, 17 Nov 2025) EndedAt: 2025-11-17 16:02:14 -0500 (Mon, 17 Nov 2025) EllapsedTime: 2.0 seconds RetCode: 0 Status: OK PackageFile: BiocBaseUtils_1.13.0.tar.gz PackageFileSize: 226.3 KiB