Package: BiocBaseUtils Version: 1.13.0 Command: /Library/Frameworks/R.framework/Resources/bin/R CMD INSTALL BiocBaseUtils StartedAt: 2025-11-16 15:02:07 -0500 (Sun, 16 Nov 2025) EndedAt: 2025-11-16 15:02:11 -0500 (Sun, 16 Nov 2025) EllapsedTime: 4.1 seconds RetCode: 0 Status: OK