Package: BiocFileCache Version: 2.99.6 Command: /Library/Frameworks/R.framework/Resources/bin/R CMD build --keep-empty-dirs --no-resave-data BiocFileCache StartedAt: 2025-10-19 15:45:15 -0400 (Sun, 19 Oct 2025) EndedAt: 2025-10-19 15:45:50 -0400 (Sun, 19 Oct 2025) EllapsedTime: 34.4 seconds RetCode: 0 Status: OK PackageFile: BiocFileCache_2.99.6.tar.gz PackageFileSize: 725.9 KiB