Package: BiocFileCache Version: 3.1.0 Command: /home/biocbuild/bbs-3.23-bioc/R/bin/R CMD build --keep-empty-dirs --no-resave-data BiocFileCache StartedAt: 2025-11-14 16:28:21 -0500 (Fri, 14 Nov 2025) EndedAt: 2025-11-14 16:29:55 -0500 (Fri, 14 Nov 2025) EllapsedTime: 94.1 seconds RetCode: 0 Status: OK PackageFile: BiocFileCache_3.1.0.tar.gz PackageFileSize: 725.7 KiB