Package: BiocFileCache Version: 2.99.5 Command: /home/biocbuild/bbs-3.22-bioc/R/bin/R CMD build --keep-empty-dirs --no-resave-data --md5 BiocFileCache StartedAt: 2025-07-24 16:26:38 -0400 (Thu, 24 Jul 2025) EndedAt: 2025-07-24 16:28:06 -0400 (Thu, 24 Jul 2025) EllapsedTime: 88.1 seconds RetCode: 0 Status: OK PackageFile: BiocFileCache_2.99.5.tar.gz PackageFileSize: 726.7 KiB