Package: BiocFileCache Version: 2.99.5 Command: /home/biocbuild/bbs-3.22-bioc/R/bin/R CMD INSTALL BiocFileCache StartedAt: 2025-07-24 15:15:25 -0400 (Thu, 24 Jul 2025) EndedAt: 2025-07-24 15:15:36 -0400 (Thu, 24 Jul 2025) EllapsedTime: 11.1 seconds RetCode: 0 Status: OK