Back to Build/check report for BioC 3.23:   simplified   long
A[B]CDEFGHIJKLMNOPQRSTUVWXYZ

This page was generated on 2025-11-03 11:32 -0500 (Mon, 03 Nov 2025).

HostnameOSArch (*)R versionInstalled pkgs
nebbiolo1Linux (Ubuntu 24.04.3 LTS)x86_64R Under development (unstable) (2025-10-20 r88955) -- "Unsuffered Consequences" 4775
Click on any hostname to see more info about the system (e.g. compilers)      (*) as reported by 'uname -p', except on Windows and Mac OS X

All results for package BiocIO


To the developers/maintainers of the BiocIO package:
- Allow up to 24 hours (and sometimes 48 hours) for your latest push to git@git.bioconductor.org:packages/BiocIO.git to reflect on this report. See Troubleshooting Build Report for more information.
- Use the following Renviron settings to reproduce errors and warnings.
- If 'R CMD check' started to fail recently on the Linux builder(s) over a missing dependency, add the missing dependency to 'Suggests:' in your DESCRIPTION file. See Renviron.bioc for more information.

raw results

Package 192/2321HostnameOS / ArchINSTALLBUILDCHECKBUILD BIN
BiocIO 1.21.0  (landing page)
Marcel Ramos
Snapshot Date: 2025-11-02 13:40 -0500 (Sun, 02 Nov 2025)
git_url: https://git.bioconductor.org/packages/BiocIO
git_branch: devel
git_last_commit: 884e288
git_last_commit_date: 2025-10-29 11:01:39 -0500 (Wed, 29 Oct 2025)
nebbiolo1Linux (Ubuntu 24.04.3 LTS) / x86_64  OK    OK    OK  UNNEEDED, same version is already published



Results for Bioconductor software packages that depend directly on package BiocIO

QUICK STATSOS / ArchINSTALLBUILDCHECKBUILD BIN
nebbiolo1Linux (Ubuntu 24.04.3 LTS) / x86_64
0016
0214
01112
Package 1/16HostnameOS / ArchINSTALLBUILDCHECKBUILD BIN
Bioc.gff 1.1.0  (landing page)
Bioconductor Package Maintainer
git_last_commit: a3d3863
git_last_commit_date: 2025-10-29 11:37:35 -0500
nebbiolo1Linux (Ubuntu 24.04.3 LTS) / x86_64  OK    OK    OK  UNNEEDED, same version is already published
Package 2/16HostnameOS / ArchINSTALLBUILDCHECKBUILD BIN
BiocSet 1.25.0  (landing page)
Kayla Morrell
git_last_commit: a89c079
git_last_commit_date: 2025-10-29 10:55:47 -0500
nebbiolo1Linux (Ubuntu 24.04.3 LTS) / x86_64  OK    OK    OK  UNNEEDED, same version is already published
Package 3/16HostnameOS / ArchINSTALLBUILDCHECKBUILD BIN
BSgenome 1.79.0  (landing page)
Hervé Pagès
git_last_commit: ed2fb58
git_last_commit_date: 2025-10-29 14:47:19 -0500
nebbiolo1Linux (Ubuntu 24.04.3 LTS) / x86_64  OK    OK    WARNINGS  NO, package depends on 'rtracklayer' which is not available
Package 4/16HostnameOS / ArchINSTALLBUILDCHECKBUILD BIN
BSgenomeForge 1.11.0  (landing page)
Hervé Pagès
git_last_commit: c7d1729
git_last_commit_date: 2025-10-29 14:46:49 -0500
nebbiolo1Linux (Ubuntu 24.04.3 LTS) / x86_64  OK    OK    OK  NO, package depends on 'BSgenome' which is not available
Package 5/16HostnameOS / ArchINSTALLBUILDCHECKBUILD BIN
gmapR 1.53.0  (landing page)
Michael Lawrence
git_last_commit: f0b8dac
git_last_commit_date: 2025-10-29 10:11:34 -0500
nebbiolo1Linux (Ubuntu 24.04.3 LTS) / x86_64  OK    ERROR  skipped
Package 6/16HostnameOS / ArchINSTALLBUILDCHECKBUILD BIN
HelloRanges 1.37.0  (landing page)
Michael Lawrence
git_last_commit: 38fc888
git_last_commit_date: 2025-10-29 10:35:10 -0500
nebbiolo1Linux (Ubuntu 24.04.3 LTS) / x86_64  OK    OK    OK  NO, package depends on 'BSgenome' which is not available
Package 7/16HostnameOS / ArchINSTALLBUILDCHECKBUILD BIN
HiCExperiment 1.11.0  (landing page)
Jacques Serizay
git_last_commit: ba6af4b
git_last_commit_date: 2025-10-29 11:21:02 -0500
nebbiolo1Linux (Ubuntu 24.04.3 LTS) / x86_64  OK    OK    OK  UNNEEDED, same version is already published
Package 8/16HostnameOS / ArchINSTALLBUILDCHECKBUILD BIN
HiContacts 1.13.0  (landing page)
Jacques Serizay
git_last_commit: 0b86ddb
git_last_commit_date: 2025-10-29 11:18:51 -0500
nebbiolo1Linux (Ubuntu 24.04.3 LTS) / x86_64  OK    OK    OK  UNNEEDED, same version is already published
Package 9/16HostnameOS / ArchINSTALLBUILDCHECKBUILD BIN
HiCool 1.11.0  (landing page)
Jacques Serizay
git_last_commit: e5a98a3
git_last_commit_date: 2025-10-29 11:21:39 -0500
nebbiolo1Linux (Ubuntu 24.04.3 LTS) / x86_64  OK    OK    ERROR  
Package 10/16HostnameOS / ArchINSTALLBUILDCHECKBUILD BIN
LoomExperiment 1.29.0  (landing page)
Bioconductor Package Maintainer
git_last_commit: dce7132
git_last_commit_date: 2025-10-29 10:48:53 -0500
nebbiolo1Linux (Ubuntu 24.04.3 LTS) / x86_64  OK    OK    OK  NO, package depends on 'SingleCellExperiment' which is not available
Package 11/16HostnameOS / ArchINSTALLBUILDCHECKBUILD BIN
rtracklayer 1.71.0  (landing page)
Michael Lawrence
git_last_commit: 65cde22
git_last_commit_date: 2025-10-29 10:00:29 -0500
nebbiolo1Linux (Ubuntu 24.04.3 LTS) / x86_64  OK    ERROR  skipped
Package 12/16HostnameOS / ArchINSTALLBUILDCHECKBUILD BIN
TENxIO 1.13.0  (landing page)
Marcel Ramos
git_last_commit: e1cb3c4
git_last_commit_date: 2025-10-29 11:19:24 -0500
nebbiolo1Linux (Ubuntu 24.04.3 LTS) / x86_64  OK    OK    OK  NO, package depends on 'SingleCellExperiment' which is not available
Package 13/16HostnameOS / ArchINSTALLBUILDCHECKBUILD BIN
tidyCoverage 1.7.0  (landing page)
Jacques Serizay
git_last_commit: 283f96f
git_last_commit_date: 2025-10-29 11:27:26 -0500
nebbiolo1Linux (Ubuntu 24.04.3 LTS) / x86_64  OK    OK    OK  NO, package depends on 'rtracklayer' which is not available
Package 14/16HostnameOS / ArchINSTALLBUILDCHECKBUILD BIN
txdbmaker 1.7.1  (landing page)
H. Pagès
git_last_commit: 5069001
git_last_commit_date: 2025-10-30 20:12:43 -0500
nebbiolo1Linux (Ubuntu 24.04.3 LTS) / x86_64  OK    OK    OK  NO, package depends on 'GenomicFeatures' which is not available
Package 15/16HostnameOS / ArchINSTALLBUILDCHECKBUILD BIN
VisiumIO 1.7.0  (landing page)
Marcel Ramos
git_last_commit: 459a588
git_last_commit_date: 2025-10-29 11:27:23 -0500
nebbiolo1Linux (Ubuntu 24.04.3 LTS) / x86_64  OK    OK    OK  NO, package depends on 'TENxIO' which is not available
Package 16/16HostnameOS / ArchINSTALLBUILDCHECKBUILD BIN
XeniumIO 1.3.0  (landing page)
Marcel Ramos
git_last_commit: dfaaa90
git_last_commit_date: 2025-10-29 11:34:29 -0500
nebbiolo1Linux (Ubuntu 24.04.3 LTS) / x86_64  OK    OK    OK  NO, package depends on 'TENxIO' which is not available