Package: BiocParallel Version: 1.45.0 Command: /Library/Frameworks/R.framework/Resources/bin/R CMD build --keep-empty-dirs --no-resave-data BiocParallel StartedAt: 2025-11-21 15:44:56 -0500 (Fri, 21 Nov 2025) EndedAt: 2025-11-21 15:45:45 -0500 (Fri, 21 Nov 2025) EllapsedTime: 48.6 seconds RetCode: 0 Status: OK PackageFile: BiocParallel_1.45.0.tar.gz PackageFileSize: 1.052 MiB