Package: BiocParallel Version: 1.45.0 Command: /Library/Frameworks/R.framework/Resources/bin/R CMD INSTALL BiocParallel StartedAt: 2025-11-21 15:02:40 -0500 (Fri, 21 Nov 2025) EndedAt: 2025-11-21 15:02:54 -0500 (Fri, 21 Nov 2025) EllapsedTime: 13.8 seconds RetCode: 0 Status: OK