Package: BumpyMatrix Version: 1.19.0 Command: /Library/Frameworks/R.framework/Resources/bin/R CMD build --keep-empty-dirs --no-resave-data BumpyMatrix StartedAt: 2025-11-18 16:17:35 -0500 (Tue, 18 Nov 2025) EndedAt: 2025-11-18 16:18:04 -0500 (Tue, 18 Nov 2025) EllapsedTime: 28.7 seconds RetCode: 0 Status: OK PackageFile: BumpyMatrix_1.19.0.tar.gz PackageFileSize: 317.4 KiB