Package: BumpyMatrix Version: 1.19.0 Command: /Library/Frameworks/R.framework/Resources/bin/R CMD INSTALL BumpyMatrix StartedAt: 2025-11-18 15:20:15 -0500 (Tue, 18 Nov 2025) EndedAt: 2025-11-18 15:20:36 -0500 (Tue, 18 Nov 2025) EllapsedTime: 21.3 seconds RetCode: 0 Status: OK