Package: BumpyMatrix Version: 1.19.0 Command: /home/biocbuild/bbs-3.23-bioc/R/bin/R CMD INSTALL BumpyMatrix StartedAt: 2025-11-16 15:15:01 -0500 (Sun, 16 Nov 2025) EndedAt: 2025-11-16 15:15:14 -0500 (Sun, 16 Nov 2025) EllapsedTime: 12.8 seconds RetCode: 0 Status: OK