Package: BumpyMatrix Version: 1.17.0 Command: /home/biocbuild/bbs-3.22-bioc/R/bin/R CMD build --keep-empty-dirs --no-resave-data --md5 BumpyMatrix StartedAt: 2025-07-25 18:38:31 -0400 (Fri, 25 Jul 2025) EndedAt: 2025-07-25 18:38:54 -0400 (Fri, 25 Jul 2025) EllapsedTime: 23.0 seconds RetCode: 0 Status: OK PackageFile: BumpyMatrix_1.17.0.tar.gz PackageFileSize: 318.5 KiB