Package: CBNplot Version: 1.11.0 Command: /Library/Frameworks/R.framework/Resources/bin/R CMD build --keep-empty-dirs --no-resave-data CBNplot StartedAt: 2025-11-20 15:50:04 -0500 (Thu, 20 Nov 2025) EndedAt: 2025-11-20 15:50:34 -0500 (Thu, 20 Nov 2025) EllapsedTime: 30.3 seconds RetCode: 0 Status: OK PackageFile: CBNplot_1.11.0.tar.gz PackageFileSize: 1.046 MiB