Package: CBNplot Version: 1.11.0 Command: /Library/Frameworks/R.framework/Resources/bin/R CMD INSTALL CBNplot StartedAt: 2025-11-20 15:24:57 -0500 (Thu, 20 Nov 2025) EndedAt: 2025-11-20 15:25:10 -0500 (Thu, 20 Nov 2025) EllapsedTime: 12.9 seconds RetCode: 0 Status: OK