Package: CCPlotR Version: 1.7.0 Command: /home/biocbuild/bbs-3.22-bioc/R/bin/R CMD INSTALL CCPlotR StartedAt: 2025-10-15 15:14:27 -0400 (Wed, 15 Oct 2025) EndedAt: 2025-10-15 15:14:40 -0400 (Wed, 15 Oct 2025) EllapsedTime: 13.4 seconds RetCode: 0 Status: OK