Package: CGHbase Version: 1.69.0 Command: /home/biocbuild/bbs-3.22-bioc/R/bin/R CMD INSTALL CGHbase StartedAt: 2025-10-17 15:13:38 -0400 (Fri, 17 Oct 2025) EndedAt: 2025-10-17 15:13:44 -0400 (Fri, 17 Oct 2025) EllapsedTime: 5.4 seconds RetCode: 0 Status: OK