Package: CHRONOS Version: 1.37.0 Command: /home/biocbuild/bbs-3.22-bioc/R/bin/R CMD build --keep-empty-dirs --no-resave-data --md5 CHRONOS StartedAt: 2025-10-12 16:47:35 -0400 (Sun, 12 Oct 2025) EndedAt: 2025-10-12 16:48:05 -0400 (Sun, 12 Oct 2025) EllapsedTime: 30.0 seconds RetCode: 0 Status: OK PackageFile: CHRONOS_1.37.0.tar.gz PackageFileSize: 1.119 MiB