Package: CHRONOS Version: 1.37.0 Command: /home/biocbuild/bbs-3.22-bioc/R/bin/R CMD INSTALL CHRONOS StartedAt: 2025-10-12 15:25:39 -0400 (Sun, 12 Oct 2025) EndedAt: 2025-10-12 15:25:58 -0400 (Sun, 12 Oct 2025) EllapsedTime: 19.5 seconds RetCode: 0 Status: OK