Package: CNORfuzzy Version: 1.53.0 Command: /Library/Frameworks/R.framework/Resources/bin/R CMD INSTALL CNORfuzzy StartedAt: 2025-11-17 15:08:39 -0500 (Mon, 17 Nov 2025) EndedAt: 2025-11-17 15:08:44 -0500 (Mon, 17 Nov 2025) EllapsedTime: 4.3 seconds RetCode: 0 Status: OK