Package: CNORfuzzy Version: 1.53.0 Command: rm -rf CNORfuzzy.buildbin-libdir && mkdir CNORfuzzy.buildbin-libdir && /Users/biocbuild/BBS/utils/build-universal.sh CNORfuzzy_1.53.0.tar.gz /Library/Frameworks/R.framework/Resources/bin/R CNORfuzzy.buildbin-libdir StartedAt: 2025-11-25 01:25:33 -0500 (Tue, 25 Nov 2025) EndedAt: 2025-11-25 01:25:52 -0500 (Tue, 25 Nov 2025) EllapsedTime: 19.6 seconds RetCode: 0 Status: OK PackageFile: CNORfuzzy_1.53.0.tgz PackageFileSize: 690.9 KiB