Package: CNORfuzzy Version: 1.53.0 Command: /Library/Frameworks/R.framework/Resources/bin/R CMD INSTALL CNORfuzzy StartedAt: 2025-11-24 15:25:18 -0500 (Mon, 24 Nov 2025) EndedAt: 2025-11-24 15:25:33 -0500 (Mon, 24 Nov 2025) EllapsedTime: 15.2 seconds RetCode: 0 Status: OK