Package: CNORode Version: 1.51.0 Command: /home/biocbuild/bbs-3.22-bioc/R/bin/R CMD INSTALL CNORode StartedAt: 2025-10-22 15:38:03 -0400 (Wed, 22 Oct 2025) EndedAt: 2025-10-22 15:38:19 -0400 (Wed, 22 Oct 2025) EllapsedTime: 16.7 seconds RetCode: 0 Status: OK