Back to Build/check report for BioC 3.23:   simplified   long
AB[C]DEFGHIJKLMNOPQRSTUVWXYZ

This page was generated on 2025-11-03 11:32 -0500 (Mon, 03 Nov 2025).

HostnameOSArch (*)R versionInstalled pkgs
nebbiolo1Linux (Ubuntu 24.04.3 LTS)x86_64R Under development (unstable) (2025-10-20 r88955) -- "Unsuffered Consequences" 4775
Click on any hostname to see more info about the system (e.g. compilers)      (*) as reported by 'uname -p', except on Windows and Mac OS X

All results for package CODEX


To the developers/maintainers of the CODEX package:
- Allow up to 24 hours (and sometimes 48 hours) for your latest push to git@git.bioconductor.org:packages/CODEX.git to reflect on this report. See Troubleshooting Build Report for more information.
- Use the following Renviron settings to reproduce errors and warnings.
- If 'R CMD check' started to fail recently on the Linux builder(s) over a missing dependency, add the missing dependency to 'Suggests:' in your DESCRIPTION file. See Renviron.bioc for more information.

raw results

Package 409/2321HostnameOS / ArchINSTALLBUILDCHECKBUILD BIN
CODEX 1.43.0  (landing page)
Yuchao Jiang
Snapshot Date: 2025-11-02 13:40 -0500 (Sun, 02 Nov 2025)
git_url: https://git.bioconductor.org/packages/CODEX
git_branch: devel
git_last_commit: 6fce599
git_last_commit_date: 2025-10-29 10:23:27 -0500 (Wed, 29 Oct 2025)
nebbiolo1Linux (Ubuntu 24.04.3 LTS) / x86_64  OK    OK    OK  UNNEEDED, same version is already published



Results for Bioconductor software packages that depend directly on package CODEX

QUICK STATSOS / ArchINSTALLBUILDCHECKBUILD BIN
nebbiolo1Linux (Ubuntu 24.04.3 LTS) / x86_64
001
001
0010
Package 1/1HostnameOS / ArchINSTALLBUILDCHECKBUILD BIN
iCNV 1.31.0  (landing page)
Zilu Zhou
git_last_commit: f950001
git_last_commit_date: 2025-10-29 10:43:58 -0500
nebbiolo1Linux (Ubuntu 24.04.3 LTS) / x86_64  OK    OK    WARNINGS  UNNEEDED, same version is already published