Package: COMPASS Version: 1.47.0 Command: /home/biocbuild/bbs-3.22-bioc/R/bin/R CMD build --keep-empty-dirs --no-resave-data --md5 COMPASS StartedAt: 2025-10-22 16:56:54 -0400 (Wed, 22 Oct 2025) EndedAt: 2025-10-22 17:01:49 -0400 (Wed, 22 Oct 2025) EllapsedTime: 295.3 seconds RetCode: 0 Status: OK PackageFile: COMPASS_1.47.0.tar.gz PackageFileSize: 1.267 MiB