Package: COSNet Version: 1.45.0 Command: /Library/Frameworks/R.framework/Resources/bin/R CMD build --keep-empty-dirs --no-resave-data COSNet StartedAt: 2025-11-25 16:00:23 -0500 (Tue, 25 Nov 2025) EndedAt: 2025-11-25 16:04:55 -0500 (Tue, 25 Nov 2025) EllapsedTime: 272.0 seconds RetCode: 0 Status: OK PackageFile: COSNet_1.45.0.tar.gz PackageFileSize: 520 KiB