Package: CSOA Version: 1.1.0 Command: /Library/Frameworks/R.framework/Resources/bin/R CMD INSTALL CSOA StartedAt: 2025-11-19 15:12:47 -0500 (Wed, 19 Nov 2025) EndedAt: 2025-11-19 15:13:03 -0500 (Wed, 19 Nov 2025) EllapsedTime: 15.5 seconds RetCode: 0 Status: OK