Package: CSSQ Version: 1.21.0 Command: /Library/Frameworks/R.framework/Resources/bin/R CMD build --keep-empty-dirs --no-resave-data CSSQ StartedAt: 2025-10-02 16:02:50 -0400 (Thu, 02 Oct 2025) EndedAt: 2025-10-02 16:03:15 -0400 (Thu, 02 Oct 2025) EllapsedTime: 25.3 seconds RetCode: 0 Status: OK PackageFile: CSSQ_1.21.0.tar.gz PackageFileSize: 866.3 KiB