Package: CSSQ Version: 1.21.0 Command: /Library/Frameworks/R.framework/Resources/bin/R CMD INSTALL CSSQ StartedAt: 2025-10-02 15:20:15 -0400 (Thu, 02 Oct 2025) EndedAt: 2025-10-02 15:20:30 -0400 (Thu, 02 Oct 2025) EllapsedTime: 14.7 seconds RetCode: 0 Status: OK