Package: CSSQ Version: 1.23.0 Command: /home/biocbuild/bbs-3.23-bioc/R/bin/R CMD build --keep-empty-dirs --no-resave-data CSSQ StartedAt: 2025-11-07 17:01:48 -0500 (Fri, 07 Nov 2025) EndedAt: 2025-11-07 17:02:49 -0500 (Fri, 07 Nov 2025) EllapsedTime: 61.1 seconds RetCode: 0 Status: OK PackageFile: CSSQ_1.23.0.tar.gz PackageFileSize: 866.4 KiB