Package: CSSQ Version: 1.21.0 Command: /home/biocbuild/bbs-3.22-bioc/R/bin/R CMD build --keep-empty-dirs --no-resave-data --md5 CSSQ StartedAt: 2025-07-17 16:48:08 -0400 (Thu, 17 Jul 2025) EndedAt: 2025-07-17 16:49:06 -0400 (Thu, 17 Jul 2025) EllapsedTime: 58.0 seconds RetCode: 0 Status: OK PackageFile: CSSQ_1.21.0.tar.gz PackageFileSize: 867.9 KiB