Package: CSSQ Version: 1.21.0 Command: /home/biocbuild/bbs-3.22-bioc/R/bin/R CMD INSTALL CSSQ StartedAt: 2025-07-17 15:37:30 -0400 (Thu, 17 Jul 2025) EndedAt: 2025-07-17 15:38:05 -0400 (Thu, 17 Jul 2025) EllapsedTime: 35.3 seconds RetCode: 0 Status: OK