Package: CardinalIO Version: 1.7.0 Command: /home/biocbuild/bbs-3.22-bioc/R/bin/R CMD build --keep-empty-dirs --no-resave-data --md5 CardinalIO StartedAt: 2025-10-08 16:59:19 -0400 (Wed, 08 Oct 2025) EndedAt: 2025-10-08 16:59:46 -0400 (Wed, 08 Oct 2025) EllapsedTime: 27.0 seconds RetCode: 0 Status: OK PackageFile: CardinalIO_1.7.0.tar.gz PackageFileSize: 1017 KiB