Package: CardinalIO Version: 1.7.0 Command: /home/biocbuild/bbs-3.22-bioc/R/bin/R CMD INSTALL CardinalIO StartedAt: 2025-10-08 15:23:41 -0400 (Wed, 08 Oct 2025) EndedAt: 2025-10-08 15:23:58 -0400 (Wed, 08 Oct 2025) EllapsedTime: 16.8 seconds RetCode: 0 Status: OK