Package: CellBench Version: 1.25.0 Command: /home/biocbuild/bbs-3.22-bioc/R/bin/R CMD INSTALL CellBench StartedAt: 2025-10-09 15:58:39 -0400 (Thu, 09 Oct 2025) EndedAt: 2025-10-09 15:59:07 -0400 (Thu, 09 Oct 2025) EllapsedTime: 27.9 seconds RetCode: 0 Status: OK