Package: CellMixS Version: 1.25.0 Command: /home/biocbuild/bbs-3.22-bioc/R/bin/R CMD build --keep-empty-dirs --no-resave-data --md5 CellMixS StartedAt: 2025-10-03 16:39:45 -0400 (Fri, 03 Oct 2025) EndedAt: 2025-10-03 16:42:32 -0400 (Fri, 03 Oct 2025) EllapsedTime: 167.1 seconds RetCode: 0 Status: OK PackageFile: CellMixS_1.25.0.tar.gz PackageFileSize: 3.91 MiB