Package: CellScore Version: 1.29.1 Command: /home/biocbuild/bbs-3.22-bioc/R/bin/R CMD INSTALL CellScore StartedAt: 2025-10-10 15:32:18 -0400 (Fri, 10 Oct 2025) EndedAt: 2025-10-10 15:32:39 -0400 (Fri, 10 Oct 2025) EllapsedTime: 20.1 seconds RetCode: 0 Status: OK