Package: CellTrails Version: 1.27.0 Command: /home/biocbuild/bbs-3.22-bioc/R/bin/R CMD INSTALL CellTrails StartedAt: 2025-10-10 15:31:13 -0400 (Fri, 10 Oct 2025) EndedAt: 2025-10-10 15:31:42 -0400 (Fri, 10 Oct 2025) EllapsedTime: 28.9 seconds RetCode: 0 Status: OK