Package: CleanUpRNAseq Version: 1.3.2 Command: /home/biocbuild/bbs-3.22-bioc/R/bin/R CMD INSTALL CleanUpRNAseq StartedAt: 2025-10-02 16:01:59 -0400 (Thu, 02 Oct 2025) EndedAt: 2025-10-02 16:02:45 -0400 (Thu, 02 Oct 2025) EllapsedTime: 45.8 seconds RetCode: 0 Status: OK