Package: ClusterFoldSimilarity Version: 1.5.0 Command: /home/biocbuild/bbs-3.22-bioc/R/bin/R CMD build --keep-empty-dirs --no-resave-data --md5 ClusterFoldSimilarity StartedAt: 2025-10-21 16:55:12 -0400 (Tue, 21 Oct 2025) EndedAt: 2025-10-21 17:03:31 -0400 (Tue, 21 Oct 2025) EllapsedTime: 498.4 seconds RetCode: 0 Status: OK PackageFile: ClusterFoldSimilarity_1.5.0.tar.gz PackageFileSize: 1.571 MiB