Package: ClusterFoldSimilarity Version: 1.5.0 Command: /home/biocbuild/bbs-3.22-bioc/R/bin/R CMD INSTALL ClusterFoldSimilarity StartedAt: 2025-10-22 15:22:53 -0400 (Wed, 22 Oct 2025) EndedAt: 2025-10-22 15:23:29 -0400 (Wed, 22 Oct 2025) EllapsedTime: 36.5 seconds RetCode: 0 Status: OK