Package: ComplexHeatmap Version: 2.25.2 Command: /home/biocbuild/bbs-3.22-bioc/R/bin/R CMD build --keep-empty-dirs --no-resave-data --md5 ComplexHeatmap StartedAt: 2025-10-12 16:55:32 -0400 (Sun, 12 Oct 2025) EndedAt: 2025-10-12 16:56:04 -0400 (Sun, 12 Oct 2025) EllapsedTime: 32.0 seconds RetCode: 0 Status: OK PackageFile: ComplexHeatmap_2.25.2.tar.gz PackageFileSize: 1.405 MiB