Package: ComplexHeatmap Version: 2.25.2 Command: /home/biocbuild/bbs-3.22-bioc/R/bin/R CMD INSTALL ComplexHeatmap StartedAt: 2025-10-12 15:13:48 -0400 (Sun, 12 Oct 2025) EndedAt: 2025-10-12 15:14:08 -0400 (Sun, 12 Oct 2025) EllapsedTime: 20.6 seconds RetCode: 0 Status: OK