Package: ConsensusClusterPlus Version: 1.73.0 Command: rm -rf ConsensusClusterPlus.buildbin-libdir && mkdir ConsensusClusterPlus.buildbin-libdir && /Users/biocbuild/BBS/utils/build-universal.sh ConsensusClusterPlus_1.73.0.tar.gz /Library/Frameworks/R.framework/Resources/bin/R ConsensusClusterPlus.buildbin-libdir StartedAt: 2025-10-20 03:03:03 -0400 (Mon, 20 Oct 2025) EndedAt: 2025-10-20 03:03:10 -0400 (Mon, 20 Oct 2025) EllapsedTime: 6.8 seconds RetCode: 0 Status: OK PackageFile: ConsensusClusterPlus_1.73.0.tgz PackageFileSize: 412 KiB